BEGIN:VCALENDAR
VERSION:2.0
PRODID:-//Liberation Station Bookstore - ECPv6.15.14//NONSGML v1.0//EN
CALSCALE:GREGORIAN
METHOD:PUBLISH
X-ORIGINAL-URL:https://lsbs.dev.thegoodpixel.com
X-WR-CALDESC:Events for Liberation Station Bookstore
REFRESH-INTERVAL;VALUE=DURATION:PT1H
X-Robots-Tag:noindex
X-PUBLISHED-TTL:PT1H
BEGIN:VTIMEZONE
TZID:America/New_York
BEGIN:DAYLIGHT
TZOFFSETFROM:-0500
TZOFFSETTO:-0400
TZNAME:EDT
DTSTART:20240310T070000
END:DAYLIGHT
BEGIN:STANDARD
TZOFFSETFROM:-0400
TZOFFSETTO:-0500
TZNAME:EST
DTSTART:20241103T060000
END:STANDARD
BEGIN:DAYLIGHT
TZOFFSETFROM:-0500
TZOFFSETTO:-0400
TZNAME:EDT
DTSTART:20250309T070000
END:DAYLIGHT
BEGIN:STANDARD
TZOFFSETFROM:-0400
TZOFFSETTO:-0500
TZNAME:EST
DTSTART:20251102T060000
END:STANDARD
BEGIN:DAYLIGHT
TZOFFSETFROM:-0500
TZOFFSETTO:-0400
TZNAME:EDT
DTSTART:20260308T070000
END:DAYLIGHT
BEGIN:STANDARD
TZOFFSETFROM:-0400
TZOFFSETTO:-0500
TZNAME:EST
DTSTART:20261101T060000
END:STANDARD
END:VTIMEZONE
BEGIN:VEVENT
DTSTART;VALUE=DATE:20251229
DTEND;VALUE=DATE:20251230
DTSTAMP:20260420T123738
CREATED:20251114T194459Z
LAST-MODIFIED:20251114T194459Z
UID:1035-1766966400-1767052799@lsbs.dev.thegoodpixel.com
SUMMARY:Liberation Station Bookstore Grand (RE)Opening
DESCRIPTION:We’re thrilled to invite you to the Grand (RE)Opening of Liberation Station Bookstore — a homecoming rooted in love\, community\, and the belief that Black children deserve beauty made just for them. This isn’t just a reopening; it’s a rebirth of a space where imagination\, learning\, and joy thrive. \nOur goal is to ensure the bookstore reflects the brilliance of our community — from beautiful shelves to dynamic programming for children. \n✨ Support Liberation Station: \n\n\nOne-time donation: GoFundMe \n\n\nJoin our sustainability fund ($4–$42/month): Ko-fi \n\n\nYour contributions build more than a bookstore — they build financial and communal prosperity for generations to come. Join us as we celebrate community\, culture\, and the joy of reading.
URL:https://lsbs.dev.thegoodpixel.com/event/grand-reopening/
CATEGORIES:General
ATTACH;FMTTYPE=image/jpeg:https://lsbs.dev.thegoodpixel.com/wp-content/uploads/2025/11/Liberation_Station_Bookstore_Grand-Opening_29_Credit_Phillip-Loken-1.jpg
END:VEVENT
END:VCALENDAR